BEGIN:VCALENDAR
VERSION:2.0
PRODID:-//AWRA - ECPv4.6.10.1//NONSGML v1.0//EN
CALSCALE:GREGORIAN
METHOD:PUBLISH
X-WR-CALNAME:AWRA
X-ORIGINAL-URL:http://awra.org.au
X-WR-CALDESC:Events for AWRA
BEGIN:VEVENT
DTSTART;TZID=Australia/Brisbane:20180228T123000
DTEND;TZID=Australia/Brisbane:20180228T133000
DTSTAMP:20180224T052120
CREATED:20171221T000257Z
LAST-MODIFIED:20171221T000421Z
UID:2033-1519821000-1519824600@awra.org.au
SUMMARY:AWRA Lunchtime Webinar | WGEA: Mining industry data and updates
DESCRIPTION:AWRA Lunchtime Webinar | Workplace Gender Equality Agency: Mining industry data and updates \nFeaturing: Sharon Parfait\, Senior Adviser – Advice and Reporting\, WEGA \nIn this webinar\, Sharon Parfait\, Senior Adviser – Advice and Reporting\, WGEA\, will give an overview on the mining industry data and updates. \nWednesday 28th February 2018 \nTime: 12:30pm – 1:30pm AEST (Brisbane Time) \nClick here to register \n
URL:http://awra.org.au/event/awra-lunchtime-webinar-wgea-mining-industry-data-updates/
END:VEVENT
END:VCALENDAR